BEGIN:VCALENDAR
VERSION:2.0
PRODID:-//A3D3 - ECPv6.15.20//NONSGML v1.0//EN
CALSCALE:GREGORIAN
METHOD:PUBLISH
X-ORIGINAL-URL:https://a3d3.ai
X-WR-CALDESC:Events for A3D3
REFRESH-INTERVAL;VALUE=DURATION:PT1H
X-Robots-Tag:noindex
X-PUBLISHED-TTL:PT1H
BEGIN:VTIMEZONE
TZID:America/New_York
BEGIN:DAYLIGHT
TZOFFSETFROM:-0500
TZOFFSETTO:-0400
TZNAME:EDT
DTSTART:20260308T070000
END:DAYLIGHT
BEGIN:STANDARD
TZOFFSETFROM:-0400
TZOFFSETTO:-0500
TZNAME:EST
DTSTART:20261101T060000
END:STANDARD
BEGIN:DAYLIGHT
TZOFFSETFROM:-0500
TZOFFSETTO:-0400
TZNAME:EDT
DTSTART:20270314T070000
END:DAYLIGHT
BEGIN:STANDARD
TZOFFSETFROM:-0400
TZOFFSETTO:-0500
TZNAME:EST
DTSTART:20271107T060000
END:STANDARD
BEGIN:DAYLIGHT
TZOFFSETFROM:-0500
TZOFFSETTO:-0400
TZNAME:EDT
DTSTART:20280312T070000
END:DAYLIGHT
BEGIN:STANDARD
TZOFFSETFROM:-0400
TZOFFSETTO:-0500
TZNAME:EST
DTSTART:20281105T060000
END:STANDARD
END:VTIMEZONE
BEGIN:VEVENT
DTSTART;TZID=America/New_York:20270826T151500
DTEND;TZID=America/New_York:20270826T160500
DTSTAMP:20260424T101444
CREATED:20250829T051244Z
LAST-MODIFIED:20250912T053200Z
UID:3186-1819293300-1819296300@a3d3.ai
SUMMARY:Communications
DESCRIPTION:https://cern.zoom.us/j/61701938883?pwd=LEknSawF1GaYUfdNUXIJMTwOfbQ7kg.1
URL:https://a3d3.ai/event/communications-242/
END:VEVENT
BEGIN:VEVENT
DTSTART;TZID=America/New_York:20270827T110000
DTEND;TZID=America/New_York:20270827T130000
DTSTAMP:20260424T101444
CREATED:20250829T051244Z
LAST-MODIFIED:20250912T053200Z
UID:3187-1819364400-1819371600@a3d3.ai
SUMMARY:A3D3 Executive Board: broader impact
DESCRIPTION:https://indico.cern.ch/event/1568237/
URL:https://a3d3.ai/event/a3d3-executive-board-broader-impact-115/
LOCATION:https://cern.zoom.us/j/65963516231?pwd=TkhGYXFQaGR2WllhK1BaWnk2Sm5Vdz09
END:VEVENT
BEGIN:VEVENT
DTSTART;TZID=America/New_York:20270902T151500
DTEND;TZID=America/New_York:20270902T160500
DTSTAMP:20260424T101444
CREATED:20250905T051353Z
LAST-MODIFIED:20250912T053200Z
UID:3189-1819898100-1819901100@a3d3.ai
SUMMARY:Communications
DESCRIPTION:https://cern.zoom.us/j/61701938883?pwd=LEknSawF1GaYUfdNUXIJMTwOfbQ7kg.1
URL:https://a3d3.ai/event/communications-243/
END:VEVENT
BEGIN:VEVENT
DTSTART;TZID=America/New_York:20270909T151500
DTEND;TZID=America/New_York:20270909T160500
DTSTAMP:20260424T101444
CREATED:20250912T052822Z
LAST-MODIFIED:20250912T053200Z
UID:3194-1820502900-1820505900@a3d3.ai
SUMMARY:Communications
DESCRIPTION:https://cern.zoom.us/j/61701938883?pwd=LEknSawF1GaYUfdNUXIJMTwOfbQ7kg.1
URL:https://a3d3.ai/event/communications-244/
END:VEVENT
BEGIN:VEVENT
DTSTART;TZID=America/New_York:20270910T110000
DTEND;TZID=America/New_York:20270910T130000
DTSTAMP:20260424T101444
CREATED:20250912T052822Z
LAST-MODIFIED:20250912T053200Z
UID:3195-1820574000-1820581200@a3d3.ai
SUMMARY:A3D3 Executive Board: Research
DESCRIPTION:https://indico.cern.ch/event/1568236/
URL:https://a3d3.ai/event/a3d3-executive-board-research-113/
LOCATION:https://cern.zoom.us/j/65963516231?pwd=TkhGYXFQaGR2WllhK1BaWnk2Sm5Vdz09
END:VEVENT
END:VCALENDAR