BEGIN:VCALENDAR
VERSION:2.0
PRODID:-//A3D3 - ECPv6.15.20//NONSGML v1.0//EN
CALSCALE:GREGORIAN
METHOD:PUBLISH
X-ORIGINAL-URL:https://a3d3.ai
X-WR-CALDESC:Events for A3D3
REFRESH-INTERVAL;VALUE=DURATION:PT1H
X-Robots-Tag:noindex
X-PUBLISHED-TTL:PT1H
BEGIN:VTIMEZONE
TZID:America/New_York
BEGIN:DAYLIGHT
TZOFFSETFROM:-0500
TZOFFSETTO:-0400
TZNAME:EDT
DTSTART:20260308T070000
END:DAYLIGHT
BEGIN:STANDARD
TZOFFSETFROM:-0400
TZOFFSETTO:-0500
TZNAME:EST
DTSTART:20261101T060000
END:STANDARD
BEGIN:DAYLIGHT
TZOFFSETFROM:-0500
TZOFFSETTO:-0400
TZNAME:EDT
DTSTART:20270314T070000
END:DAYLIGHT
BEGIN:STANDARD
TZOFFSETFROM:-0400
TZOFFSETTO:-0500
TZNAME:EST
DTSTART:20271107T060000
END:STANDARD
BEGIN:DAYLIGHT
TZOFFSETFROM:-0500
TZOFFSETTO:-0400
TZNAME:EDT
DTSTART:20280312T070000
END:DAYLIGHT
BEGIN:STANDARD
TZOFFSETFROM:-0400
TZOFFSETTO:-0500
TZNAME:EST
DTSTART:20281105T060000
END:STANDARD
END:VTIMEZONE
BEGIN:VEVENT
DTSTART;TZID=America/New_York:20270708T151500
DTEND;TZID=America/New_York:20270708T160500
DTSTAMP:20260424T085308
CREATED:20250711T041426Z
LAST-MODIFIED:20250912T053159Z
UID:3139-1815059700-1815062700@a3d3.ai
SUMMARY:Communications
DESCRIPTION:https://cern.zoom.us/j/61701938883?pwd=LEknSawF1GaYUfdNUXIJMTwOfbQ7kg.1
URL:https://a3d3.ai/event/communications-235/
END:VEVENT
BEGIN:VEVENT
DTSTART;TZID=America/New_York:20270709T110000
DTEND;TZID=America/New_York:20270709T130000
DTSTAMP:20260424T085308
CREATED:20250711T041427Z
LAST-MODIFIED:20250912T053159Z
UID:3140-1815130800-1815138000@a3d3.ai
SUMMARY:A3D3 Executive Board: Research
DESCRIPTION:https://indico.cern.ch/event/1568236/
URL:https://a3d3.ai/event/a3d3-executive-board-research-111/
LOCATION:https://cern.zoom.us/j/65963516231?pwd=TkhGYXFQaGR2WllhK1BaWnk2Sm5Vdz09
END:VEVENT
BEGIN:VEVENT
DTSTART;TZID=America/New_York:20270712T140000
DTEND;TZID=America/New_York:20270712T150000
DTSTAMP:20260424T085308
CREATED:20250718T042706Z
LAST-MODIFIED:20250912T053159Z
UID:3144-1815400800-1815404400@a3d3.ai
SUMMARY:A3D3 seminar
DESCRIPTION:https://a3d3.ai/monthly-seminars/ \nhttps://indico.cern.ch/category/14431/
URL:https://a3d3.ai/event/a3d3-seminar-95/
END:VEVENT
BEGIN:VEVENT
DTSTART;TZID=America/New_York:20270715T151500
DTEND;TZID=America/New_York:20270715T160500
DTSTAMP:20260424T085308
CREATED:20250718T042708Z
LAST-MODIFIED:20250912T053159Z
UID:3145-1815664500-1815667500@a3d3.ai
SUMMARY:Communications
DESCRIPTION:https://cern.zoom.us/j/61701938883?pwd=LEknSawF1GaYUfdNUXIJMTwOfbQ7kg.1
URL:https://a3d3.ai/event/communications-236/
END:VEVENT
BEGIN:VEVENT
DTSTART;TZID=America/New_York:20270722T151500
DTEND;TZID=America/New_York:20270722T160500
DTSTAMP:20260424T085308
CREATED:20250725T042649Z
LAST-MODIFIED:20250912T053159Z
UID:3154-1816269300-1816272300@a3d3.ai
SUMMARY:Communications
DESCRIPTION:https://cern.zoom.us/j/61701938883?pwd=LEknSawF1GaYUfdNUXIJMTwOfbQ7kg.1
URL:https://a3d3.ai/event/communications-237/
END:VEVENT
BEGIN:VEVENT
DTSTART;TZID=America/New_York:20270723T110000
DTEND;TZID=America/New_York:20270723T130000
DTSTAMP:20260424T085308
CREATED:20250725T042649Z
LAST-MODIFIED:20250912T053159Z
UID:3155-1816340400-1816347600@a3d3.ai
SUMMARY:A3D3 Executive Board: broader impact
DESCRIPTION:https://indico.cern.ch/event/1568237/
URL:https://a3d3.ai/event/a3d3-executive-board-broader-impact-114/
LOCATION:https://cern.zoom.us/j/65963516231?pwd=TkhGYXFQaGR2WllhK1BaWnk2Sm5Vdz09
END:VEVENT
BEGIN:VEVENT
DTSTART;TZID=America/New_York:20270729T151500
DTEND;TZID=America/New_York:20270729T160500
DTSTAMP:20260424T085308
CREATED:20250801T044356Z
LAST-MODIFIED:20250912T053159Z
UID:3159-1816874100-1816877100@a3d3.ai
SUMMARY:Communications
DESCRIPTION:https://cern.zoom.us/j/61701938883?pwd=LEknSawF1GaYUfdNUXIJMTwOfbQ7kg.1
URL:https://a3d3.ai/event/communications-238/
END:VEVENT
BEGIN:VEVENT
DTSTART;TZID=America/New_York:20270805T151500
DTEND;TZID=America/New_York:20270805T160500
DTSTAMP:20260424T085308
CREATED:20250808T045821Z
LAST-MODIFIED:20250912T053159Z
UID:3166-1817478900-1817481900@a3d3.ai
SUMMARY:Communications
DESCRIPTION:https://cern.zoom.us/j/61701938883?pwd=LEknSawF1GaYUfdNUXIJMTwOfbQ7kg.1
URL:https://a3d3.ai/event/communications-239/
END:VEVENT
BEGIN:VEVENT
DTSTART;TZID=America/New_York:20270809T140000
DTEND;TZID=America/New_York:20270809T150000
DTSTAMP:20260424T085308
CREATED:20250815T051048Z
LAST-MODIFIED:20250912T053159Z
UID:3178-1817820000-1817823600@a3d3.ai
SUMMARY:A3D3 seminar
DESCRIPTION:https://a3d3.ai/monthly-seminars/ \nhttps://indico.cern.ch/category/14431/
URL:https://a3d3.ai/event/a3d3-seminar-96/
END:VEVENT
BEGIN:VEVENT
DTSTART;TZID=America/New_York:20270812T151500
DTEND;TZID=America/New_York:20270812T160500
DTSTAMP:20260424T085308
CREATED:20250815T051048Z
LAST-MODIFIED:20250912T053159Z
UID:3179-1818083700-1818086700@a3d3.ai
SUMMARY:Communications
DESCRIPTION:https://cern.zoom.us/j/61701938883?pwd=LEknSawF1GaYUfdNUXIJMTwOfbQ7kg.1
URL:https://a3d3.ai/event/communications-240/
END:VEVENT
BEGIN:VEVENT
DTSTART;TZID=America/New_York:20270813T110000
DTEND;TZID=America/New_York:20270813T130000
DTSTAMP:20260424T085308
CREATED:20250815T051048Z
LAST-MODIFIED:20250912T053159Z
UID:3180-1818154800-1818162000@a3d3.ai
SUMMARY:A3D3 Executive Board: Research
DESCRIPTION:https://indico.cern.ch/event/1568236/
URL:https://a3d3.ai/event/a3d3-executive-board-research-112/
LOCATION:https://cern.zoom.us/j/65963516231?pwd=TkhGYXFQaGR2WllhK1BaWnk2Sm5Vdz09
END:VEVENT
BEGIN:VEVENT
DTSTART;TZID=America/New_York:20270819T151500
DTEND;TZID=America/New_York:20270819T160500
DTSTAMP:20260424T085308
CREATED:20250822T051136Z
LAST-MODIFIED:20250912T053159Z
UID:3182-1818688500-1818691500@a3d3.ai
SUMMARY:Communications
DESCRIPTION:https://cern.zoom.us/j/61701938883?pwd=LEknSawF1GaYUfdNUXIJMTwOfbQ7kg.1
URL:https://a3d3.ai/event/communications-241/
END:VEVENT
BEGIN:VEVENT
DTSTART;TZID=America/New_York:20270826T151500
DTEND;TZID=America/New_York:20270826T160500
DTSTAMP:20260424T085308
CREATED:20250829T051244Z
LAST-MODIFIED:20250912T053200Z
UID:3186-1819293300-1819296300@a3d3.ai
SUMMARY:Communications
DESCRIPTION:https://cern.zoom.us/j/61701938883?pwd=LEknSawF1GaYUfdNUXIJMTwOfbQ7kg.1
URL:https://a3d3.ai/event/communications-242/
END:VEVENT
BEGIN:VEVENT
DTSTART;TZID=America/New_York:20270827T110000
DTEND;TZID=America/New_York:20270827T130000
DTSTAMP:20260424T085308
CREATED:20250829T051244Z
LAST-MODIFIED:20250912T053200Z
UID:3187-1819364400-1819371600@a3d3.ai
SUMMARY:A3D3 Executive Board: broader impact
DESCRIPTION:https://indico.cern.ch/event/1568237/
URL:https://a3d3.ai/event/a3d3-executive-board-broader-impact-115/
LOCATION:https://cern.zoom.us/j/65963516231?pwd=TkhGYXFQaGR2WllhK1BaWnk2Sm5Vdz09
END:VEVENT
BEGIN:VEVENT
DTSTART;TZID=America/New_York:20270902T151500
DTEND;TZID=America/New_York:20270902T160500
DTSTAMP:20260424T085308
CREATED:20250905T051353Z
LAST-MODIFIED:20250912T053200Z
UID:3189-1819898100-1819901100@a3d3.ai
SUMMARY:Communications
DESCRIPTION:https://cern.zoom.us/j/61701938883?pwd=LEknSawF1GaYUfdNUXIJMTwOfbQ7kg.1
URL:https://a3d3.ai/event/communications-243/
END:VEVENT
BEGIN:VEVENT
DTSTART;TZID=America/New_York:20270909T151500
DTEND;TZID=America/New_York:20270909T160500
DTSTAMP:20260424T085308
CREATED:20250912T052822Z
LAST-MODIFIED:20250912T053200Z
UID:3194-1820502900-1820505900@a3d3.ai
SUMMARY:Communications
DESCRIPTION:https://cern.zoom.us/j/61701938883?pwd=LEknSawF1GaYUfdNUXIJMTwOfbQ7kg.1
URL:https://a3d3.ai/event/communications-244/
END:VEVENT
BEGIN:VEVENT
DTSTART;TZID=America/New_York:20270910T110000
DTEND;TZID=America/New_York:20270910T130000
DTSTAMP:20260424T085308
CREATED:20250912T052822Z
LAST-MODIFIED:20250912T053200Z
UID:3195-1820574000-1820581200@a3d3.ai
SUMMARY:A3D3 Executive Board: Research
DESCRIPTION:https://indico.cern.ch/event/1568236/
URL:https://a3d3.ai/event/a3d3-executive-board-research-113/
LOCATION:https://cern.zoom.us/j/65963516231?pwd=TkhGYXFQaGR2WllhK1BaWnk2Sm5Vdz09
END:VEVENT
END:VCALENDAR